Package: snapcount Version: 1.12.0 Command: F:\biocbuild\bbs-3.17-bioc\R\bin\R.exe CMD INSTALL snapcount StartedAt: 2023-10-15 15:59:21 -0400 (Sun, 15 Oct 2023) EndedAt: 2023-10-15 15:59:55 -0400 (Sun, 15 Oct 2023) EllapsedTime: 34.4 seconds RetCode: 0 Status: OK