Package: snapcount Version: 1.12.0 Command: chmod a+r snapcount -R && F:\biocbuild\bbs-3.17-bioc\R\bin\R.exe CMD build --keep-empty-dirs --no-resave-data snapcount StartedAt: 2023-10-15 22:29:11 -0400 (Sun, 15 Oct 2023) EndedAt: 2023-10-15 22:30:37 -0400 (Sun, 15 Oct 2023) EllapsedTime: 86.3 seconds RetCode: 0 Status: OK PackageFile: snapcount_1.12.0.tar.gz PackageFileSize: 514.4 KiB