Package: snapcount Version: 1.12.0 Command: rm -rf snapcount.buildbin-libdir && mkdir snapcount.buildbin-libdir && F:\biocbuild\bbs-3.17-bioc\R\bin\R.exe CMD INSTALL --build --library=snapcount.buildbin-libdir snapcount_1.12.0.tar.gz StartedAt: 2023-10-16 09:34:04 -0400 (Mon, 16 Oct 2023) EndedAt: 2023-10-16 09:34:34 -0400 (Mon, 16 Oct 2023) EllapsedTime: 30.0 seconds RetCode: 0 Status: OK PackageFile: snapcount_1.12.0.zip PackageFileSize: 625.6 KiB