Package: snapcount Version: 1.12.0 Command: /Library/Frameworks/R.framework/Resources/bin/R CMD INSTALL snapcount StartedAt: 2023-10-15 15:13:06 -0400 (Sun, 15 Oct 2023) EndedAt: 2023-10-15 15:14:25 -0400 (Sun, 15 Oct 2023) EllapsedTime: 79.1 seconds RetCode: 0 Status: OK