Package: snapCGH Version: 1.70.0 Command: chmod a+r snapCGH -R && F:\biocbuild\bbs-3.17-bioc\R\bin\R.exe CMD build --keep-empty-dirs --no-resave-data snapCGH StartedAt: 2023-10-15 22:29:03 -0400 (Sun, 15 Oct 2023) EndedAt: 2023-10-15 22:29:52 -0400 (Sun, 15 Oct 2023) EllapsedTime: 49.2 seconds RetCode: 0 Status: OK PackageFile: snapCGH_1.70.0.tar.gz PackageFileSize: 1.01 MiB