Package: snapCGH Version: 1.70.0 Command: /Library/Frameworks/R.framework/Resources/bin/R CMD check --install=check:snapCGH.install-out.txt --library=/Library/Frameworks/R.framework/Resources/library --no-vignettes --timings snapCGH_1.70.0.tar.gz StartedAt: 2023-10-16 07:18:40 -0400 (Mon, 16 Oct 2023) EndedAt: 2023-10-16 07:25:31 -0400 (Mon, 16 Oct 2023) EllapsedTime: 411.7 seconds RetCode: 0 Status: OK CheckDir: snapCGH.Rcheck Warnings: 0