Package: snapCGH Version: 1.70.0 Command: rm -rf snapCGH.buildbin-libdir && mkdir snapCGH.buildbin-libdir && /Users/biocbuild/BBS/utils/build-universal.sh snapCGH_1.70.0.tar.gz /Library/Frameworks/R.framework/Resources/bin/R snapCGH.buildbin-libdir StartedAt: 2023-10-16 10:15:30 -0400 (Mon, 16 Oct 2023) EndedAt: 2023-10-16 10:17:11 -0400 (Mon, 16 Oct 2023) EllapsedTime: 101.4 seconds RetCode: 0 Status: OK PackageFile: snapCGH_1.70.0.tgz PackageFileSize: 1.372 MiB