Package: slingshot Version: 2.8.0 Command: chmod a+r slingshot -R && F:\biocbuild\bbs-3.17-bioc\R\bin\R.exe CMD build --keep-empty-dirs --no-resave-data slingshot StartedAt: 2023-10-15 22:28:03 -0400 (Sun, 15 Oct 2023) EndedAt: 2023-10-15 22:29:10 -0400 (Sun, 15 Oct 2023) EllapsedTime: 66.9 seconds RetCode: 0 Status: OK PackageFile: slingshot_2.8.0.tar.gz PackageFileSize: 1.237 MiB