Package: slingshot Version: 2.8.0 Command: rm -rf slingshot.buildbin-libdir && mkdir slingshot.buildbin-libdir && F:\biocbuild\bbs-3.17-bioc\R\bin\R.exe CMD INSTALL --build --library=slingshot.buildbin-libdir slingshot_2.8.0.tar.gz StartedAt: 2023-10-16 09:33:51 -0400 (Mon, 16 Oct 2023) EndedAt: 2023-10-16 09:34:27 -0400 (Mon, 16 Oct 2023) EllapsedTime: 36.4 seconds RetCode: 0 Status: OK PackageFile: slingshot_2.8.0.zip PackageFileSize: 1.569 MiB