Package: slingshot Version: 2.8.0 Command: /home/biocbuild/bbs-3.17-bioc/R/bin/R CMD build --keep-empty-dirs --no-resave-data slingshot StartedAt: 2023-10-15 18:35:24 -0400 (Sun, 15 Oct 2023) EndedAt: 2023-10-15 18:36:17 -0400 (Sun, 15 Oct 2023) EllapsedTime: 53.1 seconds RetCode: 0 Status: OK PackageFile: slingshot_2.8.0.tar.gz PackageFileSize: 1.642 MiB