Package: slingshot Version: 2.8.0 Command: /Library/Frameworks/R.framework/Resources/bin/R CMD INSTALL slingshot StartedAt: 2023-10-15 15:18:09 -0400 (Sun, 15 Oct 2023) EndedAt: 2023-10-15 15:19:35 -0400 (Sun, 15 Oct 2023) EllapsedTime: 86.3 seconds RetCode: 0 Status: OK