Package: slalom Version: 1.22.0 Command: F:\biocbuild\bbs-3.17-bioc\R\bin\R.exe CMD INSTALL slalom StartedAt: 2023-10-15 16:49:33 -0400 (Sun, 15 Oct 2023) EndedAt: 2023-10-15 16:50:42 -0400 (Sun, 15 Oct 2023) EllapsedTime: 69.0 seconds RetCode: 0 Status: OK