Package: slalom Version: 1.22.0 Command: F:\biocbuild\bbs-3.17-bioc\R\bin\R.exe CMD check --no-multiarch --install=check:slalom.install-out.txt --library=F:\biocbuild\bbs-3.17-bioc\R\library --no-vignettes --timings slalom_1.22.0.tar.gz StartedAt: 2023-10-16 06:59:32 -0400 (Mon, 16 Oct 2023) EndedAt: 2023-10-16 07:04:26 -0400 (Mon, 16 Oct 2023) EllapsedTime: 293.8 seconds RetCode: 0 Status: OK CheckDir: slalom.Rcheck Warnings: 0