Package: slalom Version: 1.22.0 Command: chmod a+r slalom -R && F:\biocbuild\bbs-3.17-bioc\R\bin\R.exe CMD build --keep-empty-dirs --no-resave-data slalom StartedAt: 2023-10-15 22:27:59 -0400 (Sun, 15 Oct 2023) EndedAt: 2023-10-15 22:29:35 -0400 (Sun, 15 Oct 2023) EllapsedTime: 96.2 seconds RetCode: 0 Status: OK PackageFile: slalom_1.22.0.tar.gz PackageFileSize: 17.42 MiB