Package: slalom Version: 1.22.0 Command: rm -rf slalom.buildbin-libdir && mkdir slalom.buildbin-libdir && F:\biocbuild\bbs-3.17-bioc\R\bin\R.exe CMD INSTALL --build --library=slalom.buildbin-libdir slalom_1.22.0.tar.gz StartedAt: 2023-10-16 09:33:49 -0400 (Mon, 16 Oct 2023) EndedAt: 2023-10-16 09:35:01 -0400 (Mon, 16 Oct 2023) EllapsedTime: 71.5 seconds RetCode: 0 Status: OK PackageFile: slalom_1.22.0.zip PackageFileSize: 18.42 MiB