Package: slalom Version: 1.22.0 Command: /home/biocbuild/bbs-3.17-bioc/R/bin/R CMD check --install=check:slalom.install-out.txt --library=/home/biocbuild/bbs-3.17-bioc/R/site-library --timings slalom_1.22.0.tar.gz StartedAt: 2023-10-16 01:12:36 -0400 (Mon, 16 Oct 2023) EndedAt: 2023-10-16 01:18:02 -0400 (Mon, 16 Oct 2023) EllapsedTime: 325.9 seconds RetCode: 0 Status: OK CheckDir: slalom.Rcheck Warnings: 0