Package: slalom Version: 1.22.0 Command: /Library/Frameworks/R.framework/Resources/bin/R CMD INSTALL slalom StartedAt: 2023-10-15 16:14:13 -0400 (Sun, 15 Oct 2023) EndedAt: 2023-10-15 16:15:00 -0400 (Sun, 15 Oct 2023) EllapsedTime: 46.9 seconds RetCode: 1 Status: ERROR