Package: slalom Version: 1.21.0 Command: rm -rf slalom.buildbin-libdir && mkdir slalom.buildbin-libdir && /Users/biocbuild/BBS/utils/build-universal.sh slalom_1.21.0.tar.gz /Library/Frameworks/R.framework/Resources/bin/R slalom.buildbin-libdir StartedAt: 2023-03-16 09:59:46 -0400 (Thu, 16 Mar 2023) EndedAt: 2023-03-16 10:02:57 -0400 (Thu, 16 Mar 2023) EllapsedTime: 191.0 seconds RetCode: 0 Status: OK PackageFile: slalom_1.21.0.tgz PackageFileSize: 18.3 MiB