Package: skewr Version: 1.32.0 Command: /home/biocbuild/bbs-3.17-bioc/R/bin/R CMD INSTALL skewr StartedAt: 2023-10-15 15:48:18 -0400 (Sun, 15 Oct 2023) EndedAt: 2023-10-15 15:49:10 -0400 (Sun, 15 Oct 2023) EllapsedTime: 51.6 seconds RetCode: 0 Status: OK