Package: skewr Version: 1.32.0 Command: /home/biocbuild/bbs-3.17-bioc/R/bin/R CMD check --install=check:skewr.install-out.txt --library=/home/biocbuild/bbs-3.17-bioc/R/site-library --timings skewr_1.32.0.tar.gz StartedAt: 2023-10-16 01:12:08 -0400 (Mon, 16 Oct 2023) EndedAt: 2023-10-16 01:19:13 -0400 (Mon, 16 Oct 2023) EllapsedTime: 425.2 seconds RetCode: 0 Status: OK CheckDir: skewr.Rcheck Warnings: 0