Package: skewr Version: 1.32.0 Command: /home/biocbuild/bbs-3.17-bioc/R/bin/R CMD build --keep-empty-dirs --no-resave-data skewr StartedAt: 2023-10-15 18:35:19 -0400 (Sun, 15 Oct 2023) EndedAt: 2023-10-15 18:37:33 -0400 (Sun, 15 Oct 2023) EllapsedTime: 134.3 seconds RetCode: 0 Status: OK PackageFile: skewr_1.32.0.tar.gz PackageFileSize: 854.6 KiB