Package: sizepower Version: 1.70.0 Command: chmod a+r sizepower -R && F:\biocbuild\bbs-3.17-bioc\R\bin\R.exe CMD build --keep-empty-dirs --no-resave-data sizepower StartedAt: 2023-10-15 22:27:56 -0400 (Sun, 15 Oct 2023) EndedAt: 2023-10-15 22:28:03 -0400 (Sun, 15 Oct 2023) EllapsedTime: 7.2 seconds RetCode: 0 Status: OK PackageFile: sizepower_1.70.0.tar.gz PackageFileSize: 175.8 KiB