Package: sizepower Version: 1.70.0 Command: /home/biocbuild/bbs-3.17-bioc/R/bin/R CMD INSTALL sizepower StartedAt: 2023-10-15 15:06:56 -0400 (Sun, 15 Oct 2023) EndedAt: 2023-10-15 15:07:11 -0400 (Sun, 15 Oct 2023) EllapsedTime: 15.1 seconds RetCode: 0 Status: OK