Package: sizepower Version: 1.70.0 Command: /home/biocbuild/bbs-3.17-bioc/R/bin/R CMD build --keep-empty-dirs --no-resave-data sizepower StartedAt: 2023-10-15 18:35:18 -0400 (Sun, 15 Oct 2023) EndedAt: 2023-10-15 18:35:22 -0400 (Sun, 15 Oct 2023) EllapsedTime: 4.3 seconds RetCode: 0 Status: OK PackageFile: sizepower_1.70.0.tar.gz PackageFileSize: 173.3 KiB