Package: sizepower Version: 1.70.0 Command: rm -rf sizepower.buildbin-libdir && mkdir sizepower.buildbin-libdir && /Users/biocbuild/BBS/utils/build-universal.sh sizepower_1.70.0.tar.gz /Library/Frameworks/R.framework/Resources/bin/R sizepower.buildbin-libdir StartedAt: 2023-10-16 10:15:08 -0400 (Mon, 16 Oct 2023) EndedAt: 2023-10-16 10:15:13 -0400 (Mon, 16 Oct 2023) EllapsedTime: 5.2 seconds RetCode: 0 Status: OK PackageFile: sizepower_1.70.0.tgz PackageFileSize: 314.2 KiB