Package: sitadela Version: 1.8.0 Command: rm -rf sitadela.buildbin-libdir && mkdir sitadela.buildbin-libdir && F:\biocbuild\bbs-3.17-bioc\R\bin\R.exe CMD INSTALL --build --library=sitadela.buildbin-libdir sitadela_1.8.0.tar.gz StartedAt: 2023-10-16 09:33:39 -0400 (Mon, 16 Oct 2023) EndedAt: 2023-10-16 09:34:29 -0400 (Mon, 16 Oct 2023) EllapsedTime: 49.6 seconds RetCode: 0 Status: OK PackageFile: sitadela_1.8.0.zip PackageFileSize: 717.6 KiB