Package: sitadela Version: 1.8.0 Command: rm -rf sitadela.buildbin-libdir && mkdir sitadela.buildbin-libdir && /Users/biocbuild/BBS/utils/build-universal.sh sitadela_1.8.0.tar.gz /Library/Frameworks/R.framework/Resources/bin/R sitadela.buildbin-libdir StartedAt: 2023-10-16 10:15:00 -0400 (Mon, 16 Oct 2023) EndedAt: 2023-10-16 10:17:25 -0400 (Mon, 16 Oct 2023) EllapsedTime: 144.4 seconds RetCode: 0 Status: OK PackageFile: sitadela_1.8.0.tgz PackageFileSize: 713.4 KiB