Package: singleCellTK Version: 2.10.0 Command: rm -rf singleCellTK.buildbin-libdir && mkdir singleCellTK.buildbin-libdir && F:\biocbuild\bbs-3.17-bioc\R\bin\R.exe CMD INSTALL --build --library=singleCellTK.buildbin-libdir singleCellTK_2.10.0.tar.gz StartedAt: 2023-10-16 09:33:13 -0400 (Mon, 16 Oct 2023) EndedAt: 2023-10-16 09:34:26 -0400 (Mon, 16 Oct 2023) EllapsedTime: 72.7 seconds RetCode: 0 Status: OK PackageFile: singleCellTK_2.10.0.zip PackageFileSize: 4.538 MiB