Package: singleCellTK Version: 2.10.0 Command: /home/biocbuild/bbs-3.17-bioc/R/bin/R CMD build --keep-empty-dirs --no-resave-data singleCellTK StartedAt: 2023-10-15 18:33:58 -0400 (Sun, 15 Oct 2023) EndedAt: 2023-10-15 18:34:50 -0400 (Sun, 15 Oct 2023) EllapsedTime: 51.7 seconds RetCode: 0 Status: OK PackageFile: singleCellTK_2.10.0.tar.gz PackageFileSize: 3.218 MiB