Package: single Version: 1.4.0 Command: chmod a+r single -R && F:\biocbuild\bbs-3.17-bioc\R\bin\R.exe CMD build --keep-empty-dirs --no-resave-data single StartedAt: 2023-10-15 22:25:21 -0400 (Sun, 15 Oct 2023) EndedAt: 2023-10-15 22:27:12 -0400 (Sun, 15 Oct 2023) EllapsedTime: 110.4 seconds RetCode: 0 Status: OK PackageFile: single_1.4.0.tar.gz PackageFileSize: 1.392 MiB