Package: single Version: 1.4.0 Command: /Library/Frameworks/R.framework/Resources/bin/R CMD check --install=check:single.install-out.txt --library=/Library/Frameworks/R.framework/Resources/library --no-vignettes --timings single_1.4.0.tar.gz StartedAt: 2023-10-16 07:13:04 -0400 (Mon, 16 Oct 2023) EndedAt: 2023-10-16 07:20:59 -0400 (Mon, 16 Oct 2023) EllapsedTime: 475.4 seconds RetCode: 0 Status: OK CheckDir: single.Rcheck Warnings: 0