Package: sincell Version: 1.32.0 Command: F:\biocbuild\bbs-3.17-bioc\R\bin\R.exe CMD INSTALL sincell StartedAt: 2023-10-15 16:02:05 -0400 (Sun, 15 Oct 2023) EndedAt: 2023-10-15 16:02:45 -0400 (Sun, 15 Oct 2023) EllapsedTime: 39.9 seconds RetCode: 0 Status: OK