Package: sincell Version: 1.32.0 Command: rm -rf sincell.buildbin-libdir && mkdir sincell.buildbin-libdir && F:\biocbuild\bbs-3.17-bioc\R\bin\R.exe CMD INSTALL --build --library=sincell.buildbin-libdir sincell_1.32.0.tar.gz StartedAt: 2023-10-16 09:33:07 -0400 (Mon, 16 Oct 2023) EndedAt: 2023-10-16 09:33:51 -0400 (Mon, 16 Oct 2023) EllapsedTime: 43.9 seconds RetCode: 0 Status: OK PackageFile: sincell_1.32.0.zip PackageFileSize: 1.363 MiB