Package: simplifyEnrichment Version: 1.10.0 Command: chmod a+r simplifyEnrichment -R && F:\biocbuild\bbs-3.17-bioc\R\bin\R.exe CMD build --keep-empty-dirs --no-resave-data simplifyEnrichment StartedAt: 2023-10-15 22:25:10 -0400 (Sun, 15 Oct 2023) EndedAt: 2023-10-15 22:36:57 -0400 (Sun, 15 Oct 2023) EllapsedTime: 706.6 seconds RetCode: 0 Status: OK PackageFile: simplifyEnrichment_1.10.0.tar.gz PackageFileSize: 6.377 MiB