Package: simplifyEnrichment Version: 1.10.0 Command: /Library/Frameworks/R.framework/Resources/bin/R CMD build --keep-empty-dirs --no-resave-data simplifyEnrichment StartedAt: 2023-10-15 21:23:07 -0400 (Sun, 15 Oct 2023) EndedAt: 2023-10-15 21:53:50 -0400 (Sun, 15 Oct 2023) EllapsedTime: 1843.5 seconds RetCode: 0 Status: OK PackageFile: simplifyEnrichment_1.10.0.tar.gz PackageFileSize: 6.329 MiB