Package: similaRpeak Version: 1.32.0 Command: rm -rf similaRpeak.buildbin-libdir && mkdir similaRpeak.buildbin-libdir && F:\biocbuild\bbs-3.17-bioc\R\bin\R.exe CMD INSTALL --build --library=similaRpeak.buildbin-libdir similaRpeak_1.32.0.tar.gz StartedAt: 2023-10-16 09:32:59 -0400 (Mon, 16 Oct 2023) EndedAt: 2023-10-16 09:33:10 -0400 (Mon, 16 Oct 2023) EllapsedTime: 11.0 seconds RetCode: 0 Status: OK PackageFile: similaRpeak_1.32.0.zip PackageFileSize: 1.058 MiB