Package: similaRpeak Version: 1.32.0 Command: /home/biocbuild/bbs-3.17-bioc/R/bin/R CMD check --install=check:similaRpeak.install-out.txt --library=/home/biocbuild/bbs-3.17-bioc/R/site-library --timings similaRpeak_1.32.0.tar.gz StartedAt: 2023-10-16 01:08:55 -0400 (Mon, 16 Oct 2023) EndedAt: 2023-10-16 01:09:30 -0400 (Mon, 16 Oct 2023) EllapsedTime: 34.9 seconds RetCode: 0 Status: OK CheckDir: similaRpeak.Rcheck Warnings: 0