Package: similaRpeak Version: 1.32.0 Command: /home/biocbuild/bbs-3.17-bioc/R/bin/R CMD build --keep-empty-dirs --no-resave-data similaRpeak StartedAt: 2023-10-15 18:33:24 -0400 (Sun, 15 Oct 2023) EndedAt: 2023-10-15 18:33:49 -0400 (Sun, 15 Oct 2023) EllapsedTime: 25.6 seconds RetCode: 0 Status: OK PackageFile: similaRpeak_1.32.0.tar.gz PackageFileSize: 1.876 MiB