Package: similaRpeak Version: 1.32.0 Command: /Library/Frameworks/R.framework/Resources/bin/R CMD build --keep-empty-dirs --no-resave-data similaRpeak StartedAt: 2023-10-15 21:22:49 -0400 (Sun, 15 Oct 2023) EndedAt: 2023-10-15 21:24:03 -0400 (Sun, 15 Oct 2023) EllapsedTime: 74.3 seconds RetCode: 0 Status: OK PackageFile: similaRpeak_1.32.0.tar.gz PackageFileSize: 1.961 MiB