Package: similaRpeak Version: 1.32.0 Command: rm -rf similaRpeak.buildbin-libdir && mkdir similaRpeak.buildbin-libdir && /Users/biocbuild/BBS/utils/build-universal.sh similaRpeak_1.32.0.tar.gz /Library/Frameworks/R.framework/Resources/bin/R similaRpeak.buildbin-libdir StartedAt: 2023-10-16 10:14:36 -0400 (Mon, 16 Oct 2023) EndedAt: 2023-10-16 10:14:58 -0400 (Mon, 16 Oct 2023) EllapsedTime: 21.9 seconds RetCode: 0 Status: OK PackageFile: similaRpeak_1.32.0.tgz PackageFileSize: 2.18 MiB