Package: sigsquared Version: 1.32.0 Command: /home/biocbuild/bbs-3.17-bioc/R/bin/R CMD check --install=check:sigsquared.install-out.txt --library=/home/biocbuild/bbs-3.17-bioc/R/site-library --timings sigsquared_1.32.0.tar.gz StartedAt: 2023-10-16 01:07:35 -0400 (Mon, 16 Oct 2023) EndedAt: 2023-10-16 01:09:03 -0400 (Mon, 16 Oct 2023) EllapsedTime: 87.9 seconds RetCode: 0 Status: OK CheckDir: sigsquared.Rcheck Warnings: 0