Package: sigsquared Version: 1.32.0 Command: /home/biocbuild/bbs-3.17-bioc/R/bin/R CMD build --keep-empty-dirs --no-resave-data sigsquared StartedAt: 2023-10-15 18:33:00 -0400 (Sun, 15 Oct 2023) EndedAt: 2023-10-15 18:33:23 -0400 (Sun, 15 Oct 2023) EllapsedTime: 22.9 seconds RetCode: 0 Status: OK PackageFile: sigsquared_1.32.0.tar.gz PackageFileSize: 340.1 KiB