Package: sigsquared Version: 1.32.0 Command: /Library/Frameworks/R.framework/Resources/bin/R CMD check --install=check:sigsquared.install-out.txt --library=/Library/Frameworks/R.framework/Resources/library --no-vignettes --timings sigsquared_1.32.0.tar.gz StartedAt: 2023-10-16 07:09:32 -0400 (Mon, 16 Oct 2023) EndedAt: 2023-10-16 07:12:16 -0400 (Mon, 16 Oct 2023) EllapsedTime: 164.1 seconds RetCode: 0 Status: OK CheckDir: sigsquared.Rcheck Warnings: 0