Package: signifinder Version: 1.2.1 Command: F:\biocbuild\bbs-3.17-bioc\R\bin\R.exe CMD INSTALL signifinder StartedAt: 2023-10-15 17:01:45 -0400 (Sun, 15 Oct 2023) EndedAt: 2023-10-15 17:02:48 -0400 (Sun, 15 Oct 2023) EllapsedTime: 63.1 seconds RetCode: 0 Status: OK