Package: signifinder Version: 1.2.1 Command: /home/biocbuild/bbs-3.17-bioc/R/bin/R CMD check --install=check:signifinder.install-out.txt --library=/home/biocbuild/bbs-3.17-bioc/R/site-library --timings signifinder_1.2.1.tar.gz StartedAt: 2023-10-16 01:07:29 -0400 (Mon, 16 Oct 2023) EndedAt: 2023-10-16 01:21:05 -0400 (Mon, 16 Oct 2023) EllapsedTime: 816.3 seconds RetCode: 0 Status: OK CheckDir: signifinder.Rcheck Warnings: 0