Package: signifinder Version: 1.2.1 Command: /home/biocbuild/bbs-3.17-bioc/R/bin/R CMD build --keep-empty-dirs --no-resave-data signifinder StartedAt: 2023-10-15 18:32:55 -0400 (Sun, 15 Oct 2023) EndedAt: 2023-10-15 18:35:46 -0400 (Sun, 15 Oct 2023) EllapsedTime: 171.9 seconds RetCode: 0 Status: OK PackageFile: signifinder_1.2.1.tar.gz PackageFileSize: 7.63 MiB