Package: signifinder Version: 1.2.1 Command: /Library/Frameworks/R.framework/Resources/bin/R CMD check --install=check:signifinder.install-out.txt --library=/Library/Frameworks/R.framework/Resources/library --no-vignettes --timings signifinder_1.2.1.tar.gz StartedAt: 2023-10-16 07:09:18 -0400 (Mon, 16 Oct 2023) EndedAt: 2023-10-16 07:36:19 -0400 (Mon, 16 Oct 2023) EllapsedTime: 1620.6 seconds RetCode: 0 Status: OK CheckDir: signifinder.Rcheck Warnings: 0