Package: signifinder Version: 1.2.1 Command: rm -rf signifinder.buildbin-libdir && mkdir signifinder.buildbin-libdir && /Users/biocbuild/BBS/utils/build-universal.sh signifinder_1.2.1.tar.gz /Library/Frameworks/R.framework/Resources/bin/R signifinder.buildbin-libdir StartedAt: 2023-10-16 10:14:11 -0400 (Mon, 16 Oct 2023) EndedAt: 2023-10-16 10:16:50 -0400 (Mon, 16 Oct 2023) EllapsedTime: 158.8 seconds RetCode: 0 Status: OK PackageFile: signifinder_1.2.1.tgz PackageFileSize: 5.514 MiB