Package: signeR Version: 2.2.1 Command: chmod a+r signeR -R && F:\biocbuild\bbs-3.17-bioc\R\bin\R.exe CMD build --keep-empty-dirs --no-resave-data signeR StartedAt: 2023-10-15 22:23:46 -0400 (Sun, 15 Oct 2023) EndedAt: 2023-10-15 22:27:56 -0400 (Sun, 15 Oct 2023) EllapsedTime: 250.0 seconds RetCode: 0 Status: OK PackageFile: signeR_2.2.1.tar.gz PackageFileSize: 2.458 MiB