Package: signeR Version: 2.2.1 Command: /home/biocbuild/bbs-3.17-bioc/R/bin/R CMD build --keep-empty-dirs --no-resave-data signeR StartedAt: 2023-10-15 18:32:53 -0400 (Sun, 15 Oct 2023) EndedAt: 2023-10-15 18:36:43 -0400 (Sun, 15 Oct 2023) EllapsedTime: 229.9 seconds RetCode: 0 Status: OK PackageFile: signeR_2.2.1.tar.gz PackageFileSize: 3.737 MiB